BEGIN:VCALENDAR
VERSION:2.0
PRODID:-//Beaver Lake Campground - ECPv6.15.20//NONSGML v1.0//EN
CALSCALE:GREGORIAN
METHOD:PUBLISH
X-ORIGINAL-URL:https://beaverlakecampground.net
X-WR-CALDESC:Events for Beaver Lake Campground
REFRESH-INTERVAL;VALUE=DURATION:PT1H
X-Robots-Tag:noindex
X-PUBLISHED-TTL:PT1H
BEGIN:VTIMEZONE
TZID:America/Denver
BEGIN:DAYLIGHT
TZOFFSETFROM:-0700
TZOFFSETTO:-0600
TZNAME:MDT
DTSTART:20240310T090000
END:DAYLIGHT
BEGIN:STANDARD
TZOFFSETFROM:-0600
TZOFFSETTO:-0700
TZNAME:MST
DTSTART:20241103T080000
END:STANDARD
BEGIN:DAYLIGHT
TZOFFSETFROM:-0700
TZOFFSETTO:-0600
TZNAME:MDT
DTSTART:20250309T090000
END:DAYLIGHT
BEGIN:STANDARD
TZOFFSETFROM:-0600
TZOFFSETTO:-0700
TZNAME:MST
DTSTART:20251102T080000
END:STANDARD
BEGIN:DAYLIGHT
TZOFFSETFROM:-0700
TZOFFSETTO:-0600
TZNAME:MDT
DTSTART:20260308T090000
END:DAYLIGHT
BEGIN:STANDARD
TZOFFSETFROM:-0600
TZOFFSETTO:-0700
TZNAME:MST
DTSTART:20261101T080000
END:STANDARD
END:VTIMEZONE
BEGIN:VEVENT
DTSTART;VALUE=DATE:20250524
DTEND;VALUE=DATE:20251001
DTSTAMP:20260422T064039
CREATED:20250117T154507Z
LAST-MODIFIED:20250117T154507Z
UID:65244-1748044800-1759276799@beaverlakecampground.net
SUMMARY:Evening Lighting Ceremony at Mount Rushmore
DESCRIPTION:Under the starlit canvas of the night sky\, join us for a unique celebration that lights up the monumental faces of George Washington\, Thomas Jefferson\, Theodore Roosevelt\, and Abraham Lincoln. The Evening Lighting Ceremony at Mount Rushmore is not just any event—it’s a glowing tribute to democracy\, freedom\, and the enduring spirit of America. Held amid the splendor of the Black Hills and Badlands of South Dakota\, this event promises an unforgettable experience where history meets majesty. \nMay 24-August 10 \nEvening lighting program begins at 9:00 pm\nSculpture illumination 9:30 pm to 11:00 pm \n  \nAugust 11-September 30 \nEvening lighting program begins at 8:00 pm\nSculpture illumination 8:30 pm to 11:00 pm
URL:https://beaverlakecampground.net/event/evening-lighting-ceremony-at-mount-rushmore/
ATTACH;FMTTYPE=image/png:https://beaverlakecampground.net/wp-content/uploads/2025/01/Screenshot-2025-01-17-at-8.41.50-AM.png
END:VEVENT
BEGIN:VEVENT
DTSTART;VALUE=DATE:20250601
DTEND;VALUE=DATE:20250607
DTSTAMP:20260422T064039
CREATED:20250117T161511Z
LAST-MODIFIED:20250117T162055Z
UID:65256-1748736000-1749254399@beaverlakecampground.net
SUMMARY:Ride Across South Dakota (RASDAK)
DESCRIPTION:South Dakota is known for its vast and varied landscapes\, from the sweeping prairies to the majestic Black Hills. RASDak gives cyclists the opportunity to ride through some of the most picturesque scenery the state has to offer. The route changes each year\, ensuring a fresh adventure while highlighting the best of South Dakota’s beauty. As you pedal through the heart of the state\, you’ll have the chance to take in expansive views\, charming towns\, and quiet country roads—all from the best vantage point: your bike!
URL:https://beaverlakecampground.net/event/ride-across-south-dakota-rasdak/
ATTACH;FMTTYPE=image/png:https://beaverlakecampground.net/wp-content/uploads/2025/01/Screenshot-2025-01-17-at-9.13.50-AM.png
END:VEVENT
BEGIN:VEVENT
DTSTART;VALUE=DATE:20250605
DTEND;VALUE=DATE:20250608
DTSTAMP:20260422T064039
CREATED:20250117T161914Z
LAST-MODIFIED:20250117T161928Z
UID:65260-1749081600-1749340799@beaverlakecampground.net
SUMMARY:Black Hills Quilt Show 50th Anniversary
DESCRIPTION:The Annual Quilt Show is more than just a display of beautiful quilts—it’s a celebration of the artistry\, tradition\, and community that quilting fosters. With something for everyone\, from intricate designs to heartfelt tributes and creative challenges\, this event offers an opportunity to connect with fellow quilting enthusiasts and be inspired by the craftsmanship of the guild members. Don’t miss this chance to experience the beauty and passion of quilting in an engaging and welcoming environment.
URL:https://beaverlakecampground.net/event/black-hills-quilt-show-50th-anniversary/
ATTACH;FMTTYPE=image/png:https://beaverlakecampground.net/wp-content/uploads/2025/01/Screenshot-2025-01-17-at-9.18.20-AM.png
END:VEVENT
END:VCALENDAR