BEGIN:VCALENDAR
VERSION:2.0
PRODID:-//Beaver Lake Campground - ECPv6.15.20//NONSGML v1.0//EN
CALSCALE:GREGORIAN
METHOD:PUBLISH
X-ORIGINAL-URL:https://beaverlakecampground.net
X-WR-CALDESC:Events for Beaver Lake Campground
REFRESH-INTERVAL;VALUE=DURATION:PT1H
X-Robots-Tag:noindex
X-PUBLISHED-TTL:PT1H
BEGIN:VTIMEZONE
TZID:America/Denver
BEGIN:DAYLIGHT
TZOFFSETFROM:-0700
TZOFFSETTO:-0600
TZNAME:MDT
DTSTART:20240310T090000
END:DAYLIGHT
BEGIN:STANDARD
TZOFFSETFROM:-0600
TZOFFSETTO:-0700
TZNAME:MST
DTSTART:20241103T080000
END:STANDARD
BEGIN:DAYLIGHT
TZOFFSETFROM:-0700
TZOFFSETTO:-0600
TZNAME:MDT
DTSTART:20250309T090000
END:DAYLIGHT
BEGIN:STANDARD
TZOFFSETFROM:-0600
TZOFFSETTO:-0700
TZNAME:MST
DTSTART:20251102T080000
END:STANDARD
BEGIN:DAYLIGHT
TZOFFSETFROM:-0700
TZOFFSETTO:-0600
TZNAME:MDT
DTSTART:20260308T090000
END:DAYLIGHT
BEGIN:STANDARD
TZOFFSETFROM:-0600
TZOFFSETTO:-0700
TZNAME:MST
DTSTART:20261101T080000
END:STANDARD
END:VTIMEZONE
BEGIN:VEVENT
DTSTART;VALUE=DATE:20250524
DTEND;VALUE=DATE:20251001
DTSTAMP:20260422T064107
CREATED:20250117T154507Z
LAST-MODIFIED:20250117T154507Z
UID:65244-1748044800-1759276799@beaverlakecampground.net
SUMMARY:Evening Lighting Ceremony at Mount Rushmore
DESCRIPTION:Under the starlit canvas of the night sky\, join us for a unique celebration that lights up the monumental faces of George Washington\, Thomas Jefferson\, Theodore Roosevelt\, and Abraham Lincoln. The Evening Lighting Ceremony at Mount Rushmore is not just any event—it’s a glowing tribute to democracy\, freedom\, and the enduring spirit of America. Held amid the splendor of the Black Hills and Badlands of South Dakota\, this event promises an unforgettable experience where history meets majesty. \nMay 24-August 10 \nEvening lighting program begins at 9:00 pm\nSculpture illumination 9:30 pm to 11:00 pm \n  \nAugust 11-September 30 \nEvening lighting program begins at 8:00 pm\nSculpture illumination 8:30 pm to 11:00 pm
URL:https://beaverlakecampground.net/event/evening-lighting-ceremony-at-mount-rushmore/
ATTACH;FMTTYPE=image/png:https://beaverlakecampground.net/wp-content/uploads/2025/01/Screenshot-2025-01-17-at-8.41.50-AM.png
END:VEVENT
BEGIN:VEVENT
DTSTART;VALUE=DATE:20250613
DTEND;VALUE=DATE:20250615
DTSTAMP:20260422T064107
CREATED:20250117T162528Z
LAST-MODIFIED:20250117T162528Z
UID:65268-1749772800-1749945599@beaverlakecampground.net
SUMMARY:Wild Bill Days
DESCRIPTION:Welcome to Wild Bill Days\, where the spirit of the Wild West meets the thrill of live entertainment! Join us in the historic town of Deadwood for a weekend filled with music\, competitions\, and festivities honoring the legendary gunslinger\, Wild Bill Hickok. \nDiscover the secrets of gold panning and sluicing with the Northern Hills Prospectors right on Main Street. Learn valuable techniques from seasoned prospectors and try your luck at striking it rich in the heart of Deadwood.
URL:https://beaverlakecampground.net/event/wild-bill-days/
ATTACH;FMTTYPE=image/png:https://beaverlakecampground.net/wp-content/uploads/2025/01/Screenshot-2025-01-17-at-9.24.42-AM.png
END:VEVENT
BEGIN:VEVENT
DTSTART;VALUE=DATE:20250614
DTEND;VALUE=DATE:20250615
DTSTAMP:20260422T064107
CREATED:20250117T162708Z
LAST-MODIFIED:20250117T162708Z
UID:65272-1749859200-1749945599@beaverlakecampground.net
SUMMARY:Wild Deadwood Reads
DESCRIPTION:About the Hosts: Ginger Ring and Linda Rae Sande \nGinger Ring and Linda Rae Sande\, the hosts of Wild Deadwood Reads\, bring a wealth of experience and passion to the event. As authors who have attended countless book fairs and signings\, they understand what makes an event special for both attendees and authors. Their attention to detail and commitment to creating a positive\, enjoyable environment has earned them a stellar reputation in the literary world. Their hands-on approach ensures that every aspect of the event runs smoothly\, making Wild Deadwood Reads a standout in the world of literary gatherings. \nWhether you’re a book lover\, an aspiring writer\, or simply looking to explore the rich culture of Deadwood\, the Wild Deadwood Reads event offers something for everyone. From meeting talented authors to enjoying local festivities\, this event is your chance to be part of something truly special. Don’t miss out on this one-of-a-kind literary experience—mark your calendar and get ready for a weekend filled with books\, creativity\, and unforgettable moments!
URL:https://beaverlakecampground.net/event/wild-deadwood-reads/
ATTACH;FMTTYPE=image/png:https://beaverlakecampground.net/wp-content/uploads/2025/01/Screenshot-2025-01-17-at-9.26.21-AM.png
END:VEVENT
BEGIN:VEVENT
DTSTART;VALUE=DATE:20250614
DTEND;VALUE=DATE:20250615
DTSTAMP:20260422T064107
CREATED:20250117T162829Z
LAST-MODIFIED:20250117T162829Z
UID:65276-1749859200-1749945599@beaverlakecampground.net
SUMMARY:Pine Island Gravel Odyssey
DESCRIPTION:Join Us for an Epic Weekend in Spearfish \nWhether you’re here for the races or the festivities\, the Spearfish Cycling Event offers a perfect blend of competition\, community\, and celebration. From the breathtaking rides to the lively downtown activities\, this event is a highlight of the season. Gather your friends\, pack your gear\, and make plans to be part of this unforgettable weekend in Spearfish!\nAll races will roll out neutrally through the charming streets of Spearfish before tackling scenic landscapes and exciting challenges. No matter the distance\, you’ll experience the thrill of racing through some of the most beautiful terrain in the region. \nAfter the races\, join us for the Awards Ceremony to celebrate the incredible achievements of all participants. Stay for the prize raffle\, where you could win part of the $6\,000+ in prizes from our amazing sponsors. To finish off the weekend\, the after-party at Killian’s Tavern promises live music\, great food\, and plenty of fun as you relax and socialize with fellow riders.
URL:https://beaverlakecampground.net/event/pine-island-gravel-odyssey/
ATTACH;FMTTYPE=image/png:https://beaverlakecampground.net/wp-content/uploads/2025/01/Screenshot-2025-01-17-at-9.27.33-AM.png
END:VEVENT
BEGIN:VEVENT
DTSTART;VALUE=DATE:20250614
DTEND;VALUE=DATE:20250615
DTSTAMP:20260422T064107
CREATED:20250117T163041Z
LAST-MODIFIED:20250317T152538Z
UID:65280-1749859200-1749945599@beaverlakecampground.net
SUMMARY:Mt Rushmore Rodeo at Palmer Gulch June 14
DESCRIPTION:The Mount Rushmore Rodeo offers a variety of classic rodeo events that will keep you on the edge of your seat. Watch as brave cowboys take on massive bulls in bull riding\, and enjoy the raw skill of saddle bronc riding and bareback riding. Get your adrenaline pumping with team roping and cheer on the daring riders as they race through the arena in barrel racing. For younger attendees\, there’s mutton bustin’\, where kids can get in on the action and show their rodeo spirit in a fun\, kid-friendly competition. \nArrive early to take part in a variety of activities and immerse yourself in the lively atmosphere\, filled with the sounds of excitement and Wild West energy. \nRodeo 2025\nSaturday\, June 14\, 2025\nSaturday\, June 21\, 2025\nSunday\, August 3\, 2025\nSaturday\, August 9\, 2025\nSaturday\, August 16\, 2025 \nTime: 6:00 PM
URL:https://beaverlakecampground.net/event/mt-rushmore-rodeo-at-palmer-gulch-2/
ATTACH;FMTTYPE=image/png:https://beaverlakecampground.net/wp-content/uploads/2025/01/Screenshot-2025-01-17-at-9.29.02-AM.png
END:VEVENT
END:VCALENDAR